BEGIN:VCALENDAR
VERSION:2.0
PRODID:-//crossroadsatparkplace.org//NONSGML kigkonsult.se iCalcreator 2.30
 .10//
CALSCALE:GREGORIAN
METHOD:PUBLISH
UID:cdb1f6b4-273b-4dbc-9dbc-bbd1d5bd1f08
X-WR-CALDESC:
X-WR-RELCALID:68ff8235f34ee5a9e237106e62471336
X-WR-TIMEZONE:America/Chicago
BEGIN:VTIMEZONE
TZID:America/Chicago
BEGIN:STANDARD
TZNAME:CST
DTSTART:20271107T020000
TZOFFSETFROM:-0500
TZOFFSETTO:-0600
RDATE:20281105T020000
END:STANDARD
BEGIN:DAYLIGHT
TZNAME:CDT
DTSTART:20280312T020000
TZOFFSETFROM:-0600
TZOFFSETTO:-0500
RDATE:20290311T020000
END:DAYLIGHT
END:VTIMEZONE
BEGIN:VEVENT
UID:078465da-ea7a-4656-b7ff-b9f567a5c989
DTSTAMP:20260423T233051Z
DESCRIPTION:
DTSTART;TZID=America/Chicago:20280322T100000
DTEND;TZID=America/Chicago:20280322T120000
LOCATION:
SUMMARY:Community Food Fair
END:VEVENT
END:VCALENDAR
