BEGIN:VCALENDAR
VERSION:2.0
PRODID:-//crossroadsatparkplace.org//NONSGML kigkonsult.se iCalcreator 2.30
 .10//
CALSCALE:GREGORIAN
METHOD:PUBLISH
UID:73c455a4-3794-42c8-b9bf-29bb4d5f4a51
X-WR-CALDESC:
X-WR-RELCALID:70ca12dc56f35cc3b11629cf5c425b1f
X-WR-TIMEZONE:America/Chicago
BEGIN:VTIMEZONE
TZID:America/Chicago
BEGIN:STANDARD
TZNAME:CST
DTSTART:20271107T020000
TZOFFSETFROM:-0500
TZOFFSETTO:-0600
RDATE:20281105T020000
END:STANDARD
BEGIN:DAYLIGHT
TZNAME:CDT
DTSTART:20280312T020000
TZOFFSETFROM:-0600
TZOFFSETTO:-0500
RDATE:20290311T020000
END:DAYLIGHT
END:VTIMEZONE
BEGIN:VEVENT
UID:7e0362b5-9b77-4b35-b774-4f1f74a6d2b5
DTSTAMP:20260423T231432Z
DESCRIPTION:
DTSTART;TZID=America/Chicago:20280323T070000
DTEND;TZID=America/Chicago:20280323T120000
LOCATION:
SUMMARY:Full Service in Operation
END:VEVENT
END:VCALENDAR
