BEGIN:VCALENDAR
VERSION:2.0
PRODID:-//crossroadsatparkplace.org//NONSGML kigkonsult.se iCalcreator 2.30
 .10//
CALSCALE:GREGORIAN
METHOD:PUBLISH
UID:8741f3b5-f639-494c-9d72-dc1971faf518
X-WR-CALDESC:
X-WR-RELCALID:51d3345c224439b6de0eea9e79b102dd
X-WR-TIMEZONE:America/Chicago
BEGIN:VTIMEZONE
TZID:America/Chicago
BEGIN:STANDARD
TZNAME:CST
DTSTART:20271107T020000
TZOFFSETFROM:-0500
TZOFFSETTO:-0600
RDATE:20281105T020000
END:STANDARD
BEGIN:DAYLIGHT
TZNAME:CDT
DTSTART:20280312T020000
TZOFFSETFROM:-0600
TZOFFSETTO:-0500
RDATE:20290311T020000
END:DAYLIGHT
END:VTIMEZONE
BEGIN:VEVENT
UID:1b59861d-7ef4-48c8-93db-3a10e1d4a700
DTSTAMP:20260423T233045Z
DESCRIPTION:
DTSTART;TZID=America/Chicago:20280329T100000
DTEND;TZID=America/Chicago:20280329T120000
LOCATION:
SUMMARY:Community Food Fair
END:VEVENT
END:VCALENDAR
