BEGIN:VCALENDAR
VERSION:2.0
PRODID:-//crossroadsatparkplace.org//NONSGML kigkonsult.se iCalcreator 2.30
 .10//
CALSCALE:GREGORIAN
METHOD:PUBLISH
UID:1b99ff60-2805-4006-9e52-e78bee51c093
X-WR-CALDESC:
X-WR-RELCALID:fa7f792d268f163f7a615bcc075da259
X-WR-TIMEZONE:America/Chicago
BEGIN:VTIMEZONE
TZID:America/Chicago
BEGIN:STANDARD
TZNAME:CST
DTSTART:20271107T020000
TZOFFSETFROM:-0500
TZOFFSETTO:-0600
RDATE:20281105T020000
END:STANDARD
BEGIN:DAYLIGHT
TZNAME:CDT
DTSTART:20280312T020000
TZOFFSETFROM:-0600
TZOFFSETTO:-0500
RDATE:20290311T020000
END:DAYLIGHT
END:VTIMEZONE
BEGIN:VEVENT
UID:bfee1b7b-4762-4c57-b368-fb4fd8f4ae1a
DTSTAMP:20260424T002709Z
DESCRIPTION:
DTSTART;TZID=America/Chicago:20280405T100000
DTEND;TZID=America/Chicago:20280405T120000
LOCATION:
SUMMARY:Community Food Fair
END:VEVENT
END:VCALENDAR
