BEGIN:VCALENDAR
VERSION:2.0
PRODID:-//crossroadsatparkplace.org//NONSGML kigkonsult.se iCalcreator 2.30
 .10//
CALSCALE:GREGORIAN
METHOD:PUBLISH
UID:cccf0563-845b-4299-bc6d-f64e07b170c4
X-WR-CALDESC:
X-WR-RELCALID:19c7e188ed7121e8af218700642c6b95
X-WR-TIMEZONE:America/Chicago
BEGIN:VTIMEZONE
TZID:America/Chicago
BEGIN:STANDARD
TZNAME:CST
DTSTART:20271107T020000
TZOFFSETFROM:-0500
TZOFFSETTO:-0600
RDATE:20281105T020000
END:STANDARD
BEGIN:DAYLIGHT
TZNAME:CDT
DTSTART:20280312T020000
TZOFFSETFROM:-0600
TZOFFSETTO:-0500
RDATE:20290311T020000
END:DAYLIGHT
END:VTIMEZONE
BEGIN:VEVENT
UID:4cee2071-74a8-4ea9-9313-297c1a95f334
DTSTAMP:20260424T002801Z
DESCRIPTION:
DTSTART;TZID=America/Chicago:20280419T100000
DTEND;TZID=America/Chicago:20280419T120000
LOCATION:
SUMMARY:Community Food Fair
END:VEVENT
END:VCALENDAR
