BEGIN:VCALENDAR
VERSION:2.0
PRODID:-//crossroadsatparkplace.org//NONSGML kigkonsult.se iCalcreator 2.30
 .10//
CALSCALE:GREGORIAN
METHOD:PUBLISH
UID:d9bbb4c9-a3cc-4954-95b3-fbe7a1a8a00e
X-WR-CALDESC:
X-WR-RELCALID:f1bcd633b537cc05c598d5ea8aa0ebc6
X-WR-TIMEZONE:America/Chicago
BEGIN:VTIMEZONE
TZID:America/Chicago
BEGIN:STANDARD
TZNAME:CST
DTSTART:20271107T020000
TZOFFSETFROM:-0500
TZOFFSETTO:-0600
RDATE:20281105T020000
END:STANDARD
BEGIN:DAYLIGHT
TZNAME:CDT
DTSTART:20280312T020000
TZOFFSETFROM:-0600
TZOFFSETTO:-0500
RDATE:20290311T020000
END:DAYLIGHT
END:VTIMEZONE
BEGIN:VEVENT
UID:0fcd53aa-0b53-48cb-9496-2d496d6cf21f
DTSTAMP:20260424T015521Z
DESCRIPTION:
DTSTART;TZID=America/Chicago:20280502T070000
DTEND;TZID=America/Chicago:20280502T120000
LOCATION:
SUMMARY:Full Service in Operation
END:VEVENT
END:VCALENDAR
