BEGIN:VCALENDAR
VERSION:2.0
PRODID:-//crossroadsatparkplace.org//NONSGML kigkonsult.se iCalcreator 2.30
 .10//
CALSCALE:GREGORIAN
METHOD:PUBLISH
UID:f2e0edf1-ccea-49f3-aaf9-d209bcc9fa44
X-WR-CALDESC:
X-WR-RELCALID:9a6da4133c696109fc0998f1651ca091
X-WR-TIMEZONE:America/Chicago
BEGIN:VTIMEZONE
TZID:America/Chicago
BEGIN:STANDARD
TZNAME:CST
DTSTART:20271107T020000
TZOFFSETFROM:-0500
TZOFFSETTO:-0600
RDATE:20281105T020000
END:STANDARD
BEGIN:DAYLIGHT
TZNAME:CDT
DTSTART:20280312T020000
TZOFFSETFROM:-0600
TZOFFSETTO:-0500
RDATE:20290311T020000
END:DAYLIGHT
END:VTIMEZONE
BEGIN:VEVENT
UID:498ffd58-8cd8-4ba0-a757-87419709b861
DTSTAMP:20260424T015500Z
DESCRIPTION:
DTSTART;TZID=America/Chicago:20280503T100000
DTEND;TZID=America/Chicago:20280503T120000
LOCATION:
SUMMARY:Community Food Fair
END:VEVENT
END:VCALENDAR
