BEGIN:VCALENDAR
VERSION:2.0
PRODID:-//crossroadsatparkplace.org//NONSGML kigkonsult.se iCalcreator 2.30
 .10//
CALSCALE:GREGORIAN
METHOD:PUBLISH
UID:cd034314-508b-43a6-804d-82098ae64b55
X-WR-CALDESC:
X-WR-RELCALID:f49174d146042ec4cc13e0883239b578
X-WR-TIMEZONE:America/Chicago
BEGIN:VTIMEZONE
TZID:America/Chicago
BEGIN:STANDARD
TZNAME:CST
DTSTART:20271107T020000
TZOFFSETFROM:-0500
TZOFFSETTO:-0600
RDATE:20281105T020000
RDATE:20291104T020000
END:STANDARD
BEGIN:DAYLIGHT
TZNAME:CDT
DTSTART:20280312T020000
TZOFFSETFROM:-0600
TZOFFSETTO:-0500
RDATE:20290311T020000
END:DAYLIGHT
END:VTIMEZONE
BEGIN:VEVENT
UID:5b19df88-7a6f-4747-a3f8-299e1cf16529
DTSTAMP:20260424T015746Z
DESCRIPTION:
DTSTART;TZID=America/Chicago:20280510T100000
DTEND;TZID=America/Chicago:20280510T120000
LOCATION:
SUMMARY:Community Food Fair
END:VEVENT
END:VCALENDAR
