BEGIN:VCALENDAR
VERSION:2.0
PRODID:-//crossroadsatparkplace.org//NONSGML kigkonsult.se iCalcreator 2.30
 .10//
CALSCALE:GREGORIAN
METHOD:PUBLISH
UID:66c1c090-3a0e-48a1-9c46-68f3043d3260
X-WR-CALDESC:
X-WR-RELCALID:3d131a298118adc2b7e68e4613dce8ca
X-WR-TIMEZONE:America/Chicago
BEGIN:VTIMEZONE
TZID:America/Chicago
BEGIN:STANDARD
TZNAME:CST
DTSTART:20271107T020000
TZOFFSETFROM:-0500
TZOFFSETTO:-0600
RDATE:20281105T020000
RDATE:20291104T020000
END:STANDARD
BEGIN:DAYLIGHT
TZNAME:CDT
DTSTART:20280312T020000
TZOFFSETFROM:-0600
TZOFFSETTO:-0500
RDATE:20290311T020000
END:DAYLIGHT
END:VTIMEZONE
BEGIN:VEVENT
UID:d196f5c0-0175-4a1a-95d8-2786f4dbeb96
DTSTAMP:20260424T015348Z
DESCRIPTION:
DTSTART;TZID=America/Chicago:20280517T100000
DTEND;TZID=America/Chicago:20280517T120000
LOCATION:
SUMMARY:Community Food Fair
END:VEVENT
END:VCALENDAR
