BEGIN:VCALENDAR
VERSION:2.0
PRODID:-//crossroadsatparkplace.org//NONSGML kigkonsult.se iCalcreator 2.30
 .10//
CALSCALE:GREGORIAN
METHOD:PUBLISH
UID:55c813bd-379d-4d29-b44e-b0479fe62d96
X-WR-CALDESC:
X-WR-RELCALID:df81eb27b63da164a0ffdf891d557601
X-WR-TIMEZONE:America/Chicago
BEGIN:VTIMEZONE
TZID:America/Chicago
BEGIN:STANDARD
TZNAME:CST
DTSTART:20271107T020000
TZOFFSETFROM:-0500
TZOFFSETTO:-0600
RDATE:20281105T020000
RDATE:20291104T020000
END:STANDARD
BEGIN:DAYLIGHT
TZNAME:CDT
DTSTART:20280312T020000
TZOFFSETFROM:-0600
TZOFFSETTO:-0500
RDATE:20290311T020000
END:DAYLIGHT
END:VTIMEZONE
BEGIN:VEVENT
UID:c61539e6-a389-43fb-9c1c-c3761dd18ea6
DTSTAMP:20260424T015030Z
DESCRIPTION:
DTSTART;TZID=America/Chicago:20280531T100000
DTEND;TZID=America/Chicago:20280531T120000
LOCATION:
SUMMARY:Community Food Fair
END:VEVENT
END:VCALENDAR
