BEGIN:VCALENDAR
VERSION:2.0
PRODID:-//crossroadsatparkplace.org//NONSGML kigkonsult.se iCalcreator 2.30
 .10//
CALSCALE:GREGORIAN
METHOD:PUBLISH
UID:11659cb2-8b44-46d4-8633-909ea29b9151
X-WR-CALDESC:
X-WR-RELCALID:b9bb4105909fceab69fa4691984d96e0
X-WR-TIMEZONE:America/Chicago
BEGIN:VTIMEZONE
TZID:America/Chicago
BEGIN:STANDARD
TZNAME:CST
DTSTART:20271107T020000
TZOFFSETFROM:-0500
TZOFFSETTO:-0600
RDATE:20281105T020000
RDATE:20291104T020000
END:STANDARD
BEGIN:DAYLIGHT
TZNAME:CDT
DTSTART:20280312T020000
TZOFFSETFROM:-0600
TZOFFSETTO:-0500
RDATE:20290311T020000
END:DAYLIGHT
END:VTIMEZONE
BEGIN:VEVENT
UID:0bcbf1c0-d1e8-459d-add6-cb6e3e40c69a
DTSTAMP:20260424T030517Z
DESCRIPTION:
DTSTART;TZID=America/Chicago:20280621T100000
DTEND;TZID=America/Chicago:20280621T120000
LOCATION:
SUMMARY:Community Food Fair
END:VEVENT
END:VCALENDAR
