BEGIN:VCALENDAR
VERSION:2.0
PRODID:-//crossroadsatparkplace.org//NONSGML kigkonsult.se iCalcreator 2.30
 .10//
CALSCALE:GREGORIAN
METHOD:PUBLISH
UID:3cef5e0f-2ca1-47ab-a86d-3fe75c3cb523
X-WR-CALDESC:
X-WR-RELCALID:8d11ad4ba1a3194f06e53970799d1106
X-WR-TIMEZONE:America/Chicago
BEGIN:VTIMEZONE
TZID:America/Chicago
BEGIN:STANDARD
TZNAME:CST
DTSTART:20271107T020000
TZOFFSETFROM:-0500
TZOFFSETTO:-0600
RDATE:20281105T020000
RDATE:20291104T020000
END:STANDARD
BEGIN:DAYLIGHT
TZNAME:CDT
DTSTART:20280312T020000
TZOFFSETFROM:-0600
TZOFFSETTO:-0500
RDATE:20290311T020000
END:DAYLIGHT
END:VTIMEZONE
BEGIN:VEVENT
UID:43819a2b-3052-4a90-9dcf-5a0e1130bebf
DTSTAMP:20260424T030533Z
DESCRIPTION:
DTSTART;TZID=America/Chicago:20280628T100000
DTEND;TZID=America/Chicago:20280628T120000
LOCATION:
SUMMARY:Community Food Fair
END:VEVENT
END:VCALENDAR
