BEGIN:VCALENDAR
VERSION:2.0
PRODID:-//crossroadsatparkplace.org//NONSGML kigkonsult.se iCalcreator 2.30
 .10//
CALSCALE:GREGORIAN
METHOD:PUBLISH
UID:69c51f40-1428-42de-b101-e86c7845937b
X-WR-CALDESC:
X-WR-RELCALID:2e1718cb8286a5b2fb0928d38db9009c
X-WR-TIMEZONE:America/Chicago
BEGIN:VTIMEZONE
TZID:America/Chicago
BEGIN:STANDARD
TZNAME:CST
DTSTART:20271107T020000
TZOFFSETFROM:-0500
TZOFFSETTO:-0600
RDATE:20281105T020000
RDATE:20291104T020000
END:STANDARD
BEGIN:DAYLIGHT
TZNAME:CDT
DTSTART:20280312T020000
TZOFFSETFROM:-0600
TZOFFSETTO:-0500
RDATE:20290311T020000
END:DAYLIGHT
END:VTIMEZONE
BEGIN:VEVENT
UID:3eafb0db-9cb3-471c-a878-0e35b704a20a
DTSTAMP:20260424T043416Z
DESCRIPTION:
DTSTART;TZID=America/Chicago:20280705T100000
DTEND;TZID=America/Chicago:20280705T120000
LOCATION:
SUMMARY:Community Food Fair
END:VEVENT
END:VCALENDAR
