BEGIN:VCALENDAR
VERSION:2.0
PRODID:-//crossroadsatparkplace.org//NONSGML kigkonsult.se iCalcreator 2.30
 .10//
CALSCALE:GREGORIAN
METHOD:PUBLISH
UID:5d8e250f-71a9-4f91-9d2a-b00cbcec61d1
X-WR-CALDESC:
X-WR-RELCALID:360d9e7b4d0186ca60bb12af12bd3660
X-WR-TIMEZONE:America/Chicago
BEGIN:VTIMEZONE
TZID:America/Chicago
BEGIN:STANDARD
TZNAME:CST
DTSTART:20271107T020000
TZOFFSETFROM:-0500
TZOFFSETTO:-0600
RDATE:20281105T020000
RDATE:20291104T020000
END:STANDARD
BEGIN:DAYLIGHT
TZNAME:CDT
DTSTART:20280312T020000
TZOFFSETFROM:-0600
TZOFFSETTO:-0500
RDATE:20290311T020000
END:DAYLIGHT
END:VTIMEZONE
BEGIN:VEVENT
UID:2b5c4fe8-1452-4dd4-9b4f-a24b9a08d765
DTSTAMP:20260424T061039Z
DESCRIPTION:
DTSTART;TZID=America/Chicago:20280830T100000
DTEND;TZID=America/Chicago:20280830T120000
LOCATION:
SUMMARY:Community Food Fair
END:VEVENT
END:VCALENDAR
