BEGIN:VCALENDAR
VERSION:2.0
PRODID:-//crossroadsatparkplace.org//NONSGML kigkonsult.se iCalcreator 2.30
 .10//
CALSCALE:GREGORIAN
METHOD:PUBLISH
UID:102209ac-62d4-45ab-8c9e-1b8a00243d05
X-WR-CALDESC:
X-WR-RELCALID:349ad5e96c5cf5f5f34cc914858a7ce1
X-WR-TIMEZONE:America/Chicago
BEGIN:VTIMEZONE
TZID:America/Chicago
BEGIN:STANDARD
TZNAME:CST
DTSTART:20271107T020000
TZOFFSETFROM:-0500
TZOFFSETTO:-0600
RDATE:20281105T020000
RDATE:20291104T020000
END:STANDARD
BEGIN:DAYLIGHT
TZNAME:CDT
DTSTART:20280312T020000
TZOFFSETFROM:-0600
TZOFFSETTO:-0500
RDATE:20290311T020000
RDATE:20300310T020000
END:DAYLIGHT
END:VTIMEZONE
BEGIN:VEVENT
UID:2b0be125-fd1a-4af3-ace0-7f910e9165b2
DTSTAMP:20260424T072947Z
DESCRIPTION:
DTSTART;TZID=America/Chicago:20280912T070000
DTEND;TZID=America/Chicago:20280912T120000
LOCATION:
SUMMARY:Full Service in Operation
END:VEVENT
END:VCALENDAR
