BEGIN:VCALENDAR
VERSION:2.0
PRODID:-//crossroadsatparkplace.org//NONSGML kigkonsult.se iCalcreator 2.30
 .10//
CALSCALE:GREGORIAN
METHOD:PUBLISH
UID:5677210c-a8a1-40e3-ae5d-e4f57ab186d4
X-WR-CALDESC:
X-WR-RELCALID:983a923e0831776cae630f86530adc4d
X-WR-TIMEZONE:America/Chicago
BEGIN:VTIMEZONE
TZID:America/Chicago
BEGIN:STANDARD
TZNAME:CST
DTSTART:20271107T020000
TZOFFSETFROM:-0500
TZOFFSETTO:-0600
RDATE:20281105T020000
RDATE:20291104T020000
END:STANDARD
BEGIN:DAYLIGHT
TZNAME:CDT
DTSTART:20280312T020000
TZOFFSETFROM:-0600
TZOFFSETTO:-0500
RDATE:20290311T020000
RDATE:20300310T020000
END:DAYLIGHT
END:VTIMEZONE
BEGIN:VEVENT
UID:44e1ed29-f0b8-4cfa-b2fb-1d895ff3fafd
DTSTAMP:20260424T074108Z
DESCRIPTION:
DTSTART;TZID=America/Chicago:20280927T100000
DTEND;TZID=America/Chicago:20280927T120000
LOCATION:
SUMMARY:Community Food Fair
END:VEVENT
END:VCALENDAR
