BEGIN:VCALENDAR
VERSION:2.0
PRODID:-//crossroadsatparkplace.org//NONSGML kigkonsult.se iCalcreator 2.30
 .10//
CALSCALE:GREGORIAN
METHOD:PUBLISH
UID:8d2bb8b5-3735-47e0-9634-5d3e2ed6123f
X-WR-CALDESC:
X-WR-RELCALID:af0b11f1c2ca8a929458ebcaf73b854f
X-WR-TIMEZONE:America/Chicago
BEGIN:VTIMEZONE
TZID:America/Chicago
BEGIN:STANDARD
TZNAME:CST
DTSTART:20271107T020000
TZOFFSETFROM:-0500
TZOFFSETTO:-0600
RDATE:20281105T020000
RDATE:20291104T020000
END:STANDARD
BEGIN:DAYLIGHT
TZNAME:CDT
DTSTART:20280312T020000
TZOFFSETFROM:-0600
TZOFFSETTO:-0500
RDATE:20290311T020000
RDATE:20300310T020000
END:DAYLIGHT
END:VTIMEZONE
BEGIN:VEVENT
UID:b10918eb-d7ce-479c-91fb-3fb45700eccf
DTSTAMP:20260424T091642Z
DESCRIPTION:
DTSTART;TZID=America/Chicago:20281011T100000
DTEND;TZID=America/Chicago:20281011T120000
LOCATION:
SUMMARY:Community Food Fair
END:VEVENT
END:VCALENDAR
