BEGIN:VCALENDAR
VERSION:2.0
PRODID:-//crossroadsatparkplace.org//NONSGML kigkonsult.se iCalcreator 2.30
 .10//
CALSCALE:GREGORIAN
METHOD:PUBLISH
UID:39f5e27a-c230-4f5a-b396-91c644aec012
X-WR-CALDESC:
X-WR-RELCALID:f888f481f0dcd52dcc3130e4926fe0c9
X-WR-TIMEZONE:America/Chicago
BEGIN:VTIMEZONE
TZID:America/Chicago
BEGIN:STANDARD
TZNAME:CST
DTSTART:20271107T020000
TZOFFSETFROM:-0500
TZOFFSETTO:-0600
RDATE:20281105T020000
RDATE:20291104T020000
END:STANDARD
BEGIN:DAYLIGHT
TZNAME:CDT
DTSTART:20280312T020000
TZOFFSETFROM:-0600
TZOFFSETTO:-0500
RDATE:20290311T020000
RDATE:20300310T020000
END:DAYLIGHT
END:VTIMEZONE
BEGIN:VEVENT
UID:87825c1b-1135-431e-b954-2d702a7e9cdb
DTSTAMP:20260424T092522Z
DESCRIPTION:
DTSTART;TZID=America/Chicago:20281018T100000
DTEND;TZID=America/Chicago:20281018T120000
LOCATION:
SUMMARY:Community Food Fair
END:VEVENT
END:VCALENDAR
