BEGIN:VCALENDAR
VERSION:2.0
PRODID:-//crossroadsatparkplace.org//NONSGML kigkonsult.se iCalcreator 2.30
 .10//
CALSCALE:GREGORIAN
METHOD:PUBLISH
UID:c1f3d8ea-6706-43c4-aa59-bb87c483e652
X-WR-CALDESC:
X-WR-RELCALID:50889d28a79d3697c51bc4491b73d3ff
X-WR-TIMEZONE:America/Chicago
BEGIN:VTIMEZONE
TZID:America/Chicago
BEGIN:STANDARD
TZNAME:CST
DTSTART:20271107T020000
TZOFFSETFROM:-0500
TZOFFSETTO:-0600
RDATE:20281105T020000
RDATE:20291104T020000
END:STANDARD
BEGIN:DAYLIGHT
TZNAME:CDT
DTSTART:20280312T020000
TZOFFSETFROM:-0600
TZOFFSETTO:-0500
RDATE:20290311T020000
RDATE:20300310T020000
END:DAYLIGHT
END:VTIMEZONE
BEGIN:VEVENT
UID:6514ff7f-15bf-44cb-a6b3-0c78c6959815
DTSTAMP:20260424T104542Z
DESCRIPTION:
DTSTART;TZID=America/Chicago:20281101T100000
DTEND;TZID=America/Chicago:20281101T120000
LOCATION:
SUMMARY:Community Food Fair
END:VEVENT
END:VCALENDAR
