BEGIN:VCALENDAR
VERSION:2.0
PRODID:-//crossroadsatparkplace.org//NONSGML kigkonsult.se iCalcreator 2.30
 .10//
CALSCALE:GREGORIAN
METHOD:PUBLISH
UID:310d09a1-bbc1-48ec-8d94-8a5540ca10a5
X-WR-CALDESC:
X-WR-RELCALID:f46260a2bc4d688689ad894d5ec07836
X-WR-TIMEZONE:America/Chicago
BEGIN:VTIMEZONE
TZID:America/Chicago
BEGIN:STANDARD
TZNAME:CST
DTSTART:20281105T020000
TZOFFSETFROM:-0500
TZOFFSETTO:-0600
RDATE:20291104T020000
END:STANDARD
BEGIN:DAYLIGHT
TZNAME:CDT
DTSTART:20280312T020000
TZOFFSETFROM:-0600
TZOFFSETTO:-0500
RDATE:20290311T020000
RDATE:20300310T020000
END:DAYLIGHT
END:VTIMEZONE
BEGIN:VEVENT
UID:8a3d0754-4583-474d-a224-c32f65232528
DTSTAMP:20260424T104410Z
DESCRIPTION:
DTSTART;TZID=America/Chicago:20281108T100000
DTEND;TZID=America/Chicago:20281108T120000
LOCATION:
SUMMARY:Community Food Fair
END:VEVENT
END:VCALENDAR
