BEGIN:VCALENDAR
VERSION:2.0
PRODID:-//crossroadsatparkplace.org//NONSGML kigkonsult.se iCalcreator 2.30
 .10//
CALSCALE:GREGORIAN
METHOD:PUBLISH
UID:d059e97e-5c97-4cb7-aecb-70c9121e8478
X-WR-CALDESC:
X-WR-RELCALID:406ba15fd96a3374041a56379df19a39
X-WR-TIMEZONE:America/Chicago
BEGIN:VTIMEZONE
TZID:America/Chicago
BEGIN:STANDARD
TZNAME:CST
DTSTART:20281105T020000
TZOFFSETFROM:-0500
TZOFFSETTO:-0600
RDATE:20291104T020000
END:STANDARD
BEGIN:DAYLIGHT
TZNAME:CDT
DTSTART:20280312T020000
TZOFFSETFROM:-0600
TZOFFSETTO:-0500
RDATE:20290311T020000
RDATE:20300310T020000
END:DAYLIGHT
END:VTIMEZONE
BEGIN:VEVENT
UID:f4ddec13-f2d6-4916-b8f1-99eee83b91d8
DTSTAMP:20260424T121918Z
DESCRIPTION:
DTSTART;TZID=America/Chicago:20281206T100000
DTEND;TZID=America/Chicago:20281206T120000
LOCATION:
SUMMARY:Community Food Fair
END:VEVENT
END:VCALENDAR
