BEGIN:VCALENDAR
VERSION:2.0
PRODID:-//crossroadsatparkplace.org//NONSGML kigkonsult.se iCalcreator 2.30
 .10//
CALSCALE:GREGORIAN
METHOD:PUBLISH
UID:5cb4e0bd-06eb-45d9-aa3d-183ea9c855f3
X-WR-CALDESC:
X-WR-RELCALID:182e5c86f0eeb0e16475946311d934e3
X-WR-TIMEZONE:America/Chicago
BEGIN:VTIMEZONE
TZID:America/Chicago
BEGIN:STANDARD
TZNAME:CST
DTSTART:20281105T020000
TZOFFSETFROM:-0500
TZOFFSETTO:-0600
RDATE:20291104T020000
END:STANDARD
BEGIN:DAYLIGHT
TZNAME:CDT
DTSTART:20280312T020000
TZOFFSETFROM:-0600
TZOFFSETTO:-0500
RDATE:20290311T020000
RDATE:20300310T020000
END:DAYLIGHT
END:VTIMEZONE
BEGIN:VEVENT
UID:cb6e96c2-92a0-4974-8c49-d9c16333e66d
DTSTAMP:20260424T121758Z
DESCRIPTION:
DTSTART;TZID=America/Chicago:20281220T100000
DTEND;TZID=America/Chicago:20281220T120000
LOCATION:
SUMMARY:Community Food Fair
END:VEVENT
END:VCALENDAR
