BEGIN:VCALENDAR
VERSION:2.0
PRODID:-//crossroadsatparkplace.org//NONSGML kigkonsult.se iCalcreator 2.30
 .10//
CALSCALE:GREGORIAN
METHOD:PUBLISH
UID:60e60d4e-ab1f-45dd-a5ea-c55af46ffb20
X-WR-CALDESC:
X-WR-RELCALID:d2f706cb55bb07c8ee3504d688f06587
X-WR-TIMEZONE:America/Chicago
BEGIN:VTIMEZONE
TZID:America/Chicago
BEGIN:STANDARD
TZNAME:CST
DTSTART:20281105T020000
TZOFFSETFROM:-0500
TZOFFSETTO:-0600
RDATE:20291104T020000
END:STANDARD
BEGIN:DAYLIGHT
TZNAME:CDT
DTSTART:20280312T020000
TZOFFSETFROM:-0600
TZOFFSETTO:-0500
RDATE:20290311T020000
RDATE:20300310T020000
END:DAYLIGHT
END:VTIMEZONE
BEGIN:VEVENT
UID:6b155829-4237-4d68-9018-5f741a9a7e09
DTSTAMP:20260424T134027Z
DESCRIPTION:
DTSTART;TZID=America/Chicago:20290103T100000
DTEND;TZID=America/Chicago:20290103T120000
LOCATION:
SUMMARY:Community Food Fair
END:VEVENT
END:VCALENDAR
