BEGIN:VCALENDAR
VERSION:2.0
PRODID:-//crossroadsatparkplace.org//NONSGML kigkonsult.se iCalcreator 2.30
 .10//
CALSCALE:GREGORIAN
METHOD:PUBLISH
UID:d85e68c1-f536-49da-837e-7bf0d7de46e9
X-WR-CALDESC:
X-WR-RELCALID:b50d6f6643b3ce9a994da7ddca354299
X-WR-TIMEZONE:America/Chicago
BEGIN:VTIMEZONE
TZID:America/Chicago
BEGIN:STANDARD
TZNAME:CST
DTSTART:20281105T020000
TZOFFSETFROM:-0500
TZOFFSETTO:-0600
RDATE:20291104T020000
END:STANDARD
BEGIN:DAYLIGHT
TZNAME:CDT
DTSTART:20280312T020000
TZOFFSETFROM:-0600
TZOFFSETTO:-0500
RDATE:20290311T020000
RDATE:20300310T020000
END:DAYLIGHT
END:VTIMEZONE
BEGIN:VEVENT
UID:66a10ae7-13f1-48ff-82a9-57915952d541
DTSTAMP:20260424T134158Z
DESCRIPTION:
DTSTART;TZID=America/Chicago:20290131T100000
DTEND;TZID=America/Chicago:20290131T120000
LOCATION:
SUMMARY:Community Food Fair
END:VEVENT
END:VCALENDAR
