BEGIN:VCALENDAR
VERSION:2.0
PRODID:-//crossroadsatparkplace.org//NONSGML kigkonsult.se iCalcreator 2.30
 .10//
CALSCALE:GREGORIAN
METHOD:PUBLISH
UID:1b2a3620-3e43-41bd-b12b-880d71c0af04
X-WR-CALDESC:
X-WR-RELCALID:d44d5fc0ba0d7f0faee557dfad8e4dd5
X-WR-TIMEZONE:America/Chicago
BEGIN:VTIMEZONE
TZID:America/Chicago
BEGIN:STANDARD
TZNAME:CST
DTSTART:20281105T020000
TZOFFSETFROM:-0500
TZOFFSETTO:-0600
RDATE:20291104T020000
END:STANDARD
BEGIN:DAYLIGHT
TZNAME:CDT
DTSTART:20280312T020000
TZOFFSETFROM:-0600
TZOFFSETTO:-0500
RDATE:20290311T020000
RDATE:20300310T020000
END:DAYLIGHT
END:VTIMEZONE
BEGIN:VEVENT
UID:596a2841-bbda-4449-9952-26bd77bcd41e
DTSTAMP:20260424T152056Z
DESCRIPTION:
DTSTART;TZID=America/Chicago:20290228T100000
DTEND;TZID=America/Chicago:20290228T120000
LOCATION:
SUMMARY:Community Food Fair
END:VEVENT
END:VCALENDAR
