BEGIN:VCALENDAR
VERSION:2.0
PRODID:-//crossroadsatparkplace.org//NONSGML kigkonsult.se iCalcreator 2.30
 .10//
CALSCALE:GREGORIAN
METHOD:PUBLISH
UID:e71983d9-4dc7-4cd7-a4ac-88112a36e8ef
X-WR-CALDESC:
X-WR-RELCALID:a50fc3f0047e3171573fc3cab9e68a60
X-WR-TIMEZONE:America/Chicago
BEGIN:VTIMEZONE
TZID:America/Chicago
BEGIN:STANDARD
TZNAME:CST
DTSTART:20281105T020000
TZOFFSETFROM:-0500
TZOFFSETTO:-0600
RDATE:20291104T020000
END:STANDARD
BEGIN:DAYLIGHT
TZNAME:CDT
DTSTART:20280312T020000
TZOFFSETFROM:-0600
TZOFFSETTO:-0500
RDATE:20290311T020000
RDATE:20300310T020000
END:DAYLIGHT
END:VTIMEZONE
BEGIN:VEVENT
UID:9888c072-84ab-4cfb-a80e-e79da5ee8e44
DTSTAMP:20260424T164252Z
DESCRIPTION:
DTSTART;TZID=America/Chicago:20290307T100000
DTEND;TZID=America/Chicago:20290307T120000
LOCATION:
SUMMARY:Community Food Fair
END:VEVENT
END:VCALENDAR
