BEGIN:VCALENDAR
VERSION:2.0
PRODID:-//crossroadsatparkplace.org//NONSGML kigkonsult.se iCalcreator 2.30
 .10//
CALSCALE:GREGORIAN
METHOD:PUBLISH
UID:b9432de3-d6f9-46ae-980c-a31ffdee373d
X-WR-CALDESC:
X-WR-RELCALID:32f810da0d9cb422d68728e7cb26e1fa
X-WR-TIMEZONE:America/Chicago
BEGIN:VTIMEZONE
TZID:America/Chicago
BEGIN:STANDARD
TZNAME:CST
DTSTART:20281105T020000
TZOFFSETFROM:-0500
TZOFFSETTO:-0600
RDATE:20291104T020000
END:STANDARD
BEGIN:DAYLIGHT
TZNAME:CDT
DTSTART:20290311T020000
TZOFFSETFROM:-0600
TZOFFSETTO:-0500
RDATE:20300310T020000
END:DAYLIGHT
END:VTIMEZONE
BEGIN:VEVENT
UID:88205480-e825-418d-a622-fc852b8546eb
DTSTAMP:20260424T165344Z
DESCRIPTION:
DTSTART;TZID=America/Chicago:20290314T100000
DTEND;TZID=America/Chicago:20290314T120000
LOCATION:
SUMMARY:Community Food Fair
END:VEVENT
END:VCALENDAR
