BEGIN:VCALENDAR
VERSION:2.0
PRODID:-//crossroadsatparkplace.org//NONSGML kigkonsult.se iCalcreator 2.30
 .10//
CALSCALE:GREGORIAN
METHOD:PUBLISH
UID:fe725d2d-0ee5-4f6d-9cfd-1a149c267184
X-WR-CALDESC:
X-WR-RELCALID:6053ab2f5381b14bfc6d06ab7f920992
X-WR-TIMEZONE:America/Chicago
BEGIN:VTIMEZONE
TZID:America/Chicago
BEGIN:STANDARD
TZNAME:CST
DTSTART:20281105T020000
TZOFFSETFROM:-0500
TZOFFSETTO:-0600
RDATE:20291104T020000
END:STANDARD
BEGIN:DAYLIGHT
TZNAME:CDT
DTSTART:20290311T020000
TZOFFSETFROM:-0600
TZOFFSETTO:-0500
RDATE:20300310T020000
END:DAYLIGHT
END:VTIMEZONE
BEGIN:VEVENT
UID:176cc758-8717-44fa-8048-a5e9c44343bb
DTSTAMP:20260424T164143Z
DESCRIPTION:
DTSTART;TZID=America/Chicago:20290321T100000
DTEND;TZID=America/Chicago:20290321T120000
LOCATION:
SUMMARY:Community Food Fair
END:VEVENT
END:VCALENDAR
