BEGIN:VCALENDAR
VERSION:2.0
PRODID:-//crossroadsatparkplace.org//NONSGML kigkonsult.se iCalcreator 2.30
 .10//
CALSCALE:GREGORIAN
METHOD:PUBLISH
UID:87160544-9c3b-4044-a7ec-11f4f6e77480
X-WR-CALDESC:
X-WR-RELCALID:2e492eb0f274af46dceed5d969da43ba
X-WR-TIMEZONE:America/Chicago
BEGIN:VTIMEZONE
TZID:America/Chicago
BEGIN:STANDARD
TZNAME:CST
DTSTART:20281105T020000
TZOFFSETFROM:-0500
TZOFFSETTO:-0600
RDATE:20291104T020000
END:STANDARD
BEGIN:DAYLIGHT
TZNAME:CDT
DTSTART:20290311T020000
TZOFFSETFROM:-0600
TZOFFSETTO:-0500
RDATE:20300310T020000
END:DAYLIGHT
END:VTIMEZONE
BEGIN:VEVENT
UID:11e1177b-542e-4b2c-ad05-9c6cea065ef0
DTSTAMP:20260424T164344Z
DESCRIPTION:
DTSTART;TZID=America/Chicago:20290328T100000
DTEND;TZID=America/Chicago:20290328T120000
LOCATION:
SUMMARY:Community Food Fair
END:VEVENT
END:VCALENDAR
