BEGIN:VCALENDAR
VERSION:2.0
PRODID:-//crossroadsatparkplace.org//NONSGML kigkonsult.se iCalcreator 2.30
 .10//
CALSCALE:GREGORIAN
METHOD:PUBLISH
UID:24a39543-6297-4ea1-9c53-be8c18cff9ce
X-WR-CALDESC:
X-WR-RELCALID:59a9c2995446e02dedf7c9ca853ad440
X-WR-TIMEZONE:America/Chicago
BEGIN:VTIMEZONE
TZID:America/Chicago
BEGIN:STANDARD
TZNAME:CST
DTSTART:20281105T020000
TZOFFSETFROM:-0500
TZOFFSETTO:-0600
RDATE:20291104T020000
END:STANDARD
BEGIN:DAYLIGHT
TZNAME:CDT
DTSTART:20290311T020000
TZOFFSETFROM:-0600
TZOFFSETTO:-0500
RDATE:20300310T020000
END:DAYLIGHT
END:VTIMEZONE
BEGIN:VEVENT
UID:5441a0cb-9382-4bbb-9217-0f10c2e2ff1b
DTSTAMP:20260424T163703Z
DESCRIPTION:
DTSTART;TZID=America/Chicago:20290329T070000
DTEND;TZID=America/Chicago:20290329T120000
LOCATION:
SUMMARY:Full Service in Operation
END:VEVENT
END:VCALENDAR
