BEGIN:VCALENDAR
VERSION:2.0
PRODID:-//crossroadsatparkplace.org//NONSGML kigkonsult.se iCalcreator 2.30
 .10//
CALSCALE:GREGORIAN
METHOD:PUBLISH
UID:36ae3c2a-52f3-42a7-8f29-87dd741435c2
X-WR-CALDESC:
X-WR-RELCALID:31fa52e01e027ca593e4380abf331957
X-WR-TIMEZONE:America/Chicago
BEGIN:VTIMEZONE
TZID:America/Chicago
BEGIN:STANDARD
TZNAME:CST
DTSTART:20281105T020000
TZOFFSETFROM:-0500
TZOFFSETTO:-0600
RDATE:20291104T020000
END:STANDARD
BEGIN:DAYLIGHT
TZNAME:CDT
DTSTART:20290311T020000
TZOFFSETFROM:-0600
TZOFFSETTO:-0500
RDATE:20300310T020000
END:DAYLIGHT
END:VTIMEZONE
BEGIN:VEVENT
UID:af8340f7-e0a9-4649-a08b-a94d3a48abcb
DTSTAMP:20260424T180326Z
DESCRIPTION:
DTSTART;TZID=America/Chicago:20290418T100000
DTEND;TZID=America/Chicago:20290418T120000
LOCATION:
SUMMARY:Community Food Fair
END:VEVENT
END:VCALENDAR
