BEGIN:VCALENDAR
VERSION:2.0
PRODID:-//crossroadsatparkplace.org//NONSGML kigkonsult.se iCalcreator 2.30
 .10//
CALSCALE:GREGORIAN
METHOD:PUBLISH
UID:ee42709e-de99-43cb-99f1-ac9a193e6ee6
X-WR-CALDESC:
X-WR-RELCALID:74f358637bd9d810f3e2aeaf53079aef
X-WR-TIMEZONE:America/Chicago
BEGIN:VTIMEZONE
TZID:America/Chicago
BEGIN:STANDARD
TZNAME:CST
DTSTART:20281105T020000
TZOFFSETFROM:-0500
TZOFFSETTO:-0600
RDATE:20291104T020000
END:STANDARD
BEGIN:DAYLIGHT
TZNAME:CDT
DTSTART:20290311T020000
TZOFFSETFROM:-0600
TZOFFSETTO:-0500
RDATE:20300310T020000
END:DAYLIGHT
END:VTIMEZONE
BEGIN:VEVENT
UID:b6068bbc-52ce-4a5a-b4f0-a42ec03302ab
DTSTAMP:20260424T180407Z
DESCRIPTION:
DTSTART;TZID=America/Chicago:20290425T100000
DTEND;TZID=America/Chicago:20290425T120000
LOCATION:
SUMMARY:Community Food Fair
END:VEVENT
END:VCALENDAR
