BEGIN:VCALENDAR
VERSION:2.0
PRODID:-//crossroadsatparkplace.org//NONSGML kigkonsult.se iCalcreator 2.30
 .10//
CALSCALE:GREGORIAN
METHOD:PUBLISH
UID:1483d48d-6a3c-4152-a69e-5541a082a997
X-WR-CALDESC:
X-WR-RELCALID:9eba73ae60ef361a8864202583bf715b
X-WR-TIMEZONE:America/Chicago
BEGIN:VTIMEZONE
TZID:America/Chicago
BEGIN:STANDARD
TZNAME:CST
DTSTART:20281105T020000
TZOFFSETFROM:-0500
TZOFFSETTO:-0600
RDATE:20291104T020000
END:STANDARD
BEGIN:DAYLIGHT
TZNAME:CDT
DTSTART:20290311T020000
TZOFFSETFROM:-0600
TZOFFSETTO:-0500
RDATE:20300310T020000
END:DAYLIGHT
END:VTIMEZONE
BEGIN:VEVENT
UID:ff9b11ba-e697-4797-9e10-a75b4367601f
DTSTAMP:20260424T192942Z
DESCRIPTION:
DTSTART;TZID=America/Chicago:20290502T100000
DTEND;TZID=America/Chicago:20290502T120000
LOCATION:
SUMMARY:Community Food Fair
END:VEVENT
END:VCALENDAR
