BEGIN:VCALENDAR
VERSION:2.0
PRODID:-//crossroadsatparkplace.org//NONSGML kigkonsult.se iCalcreator 2.30
 .10//
CALSCALE:GREGORIAN
METHOD:PUBLISH
UID:d1b5e889-c16d-408d-a95c-48eafd7d9a58
X-WR-CALDESC:
X-WR-RELCALID:9ba5aa94b722ade2a9e26ffdcee45610
X-WR-TIMEZONE:America/Chicago
BEGIN:VTIMEZONE
TZID:America/Chicago
BEGIN:STANDARD
TZNAME:CST
DTSTART:20281105T020000
TZOFFSETFROM:-0500
TZOFFSETTO:-0600
RDATE:20291104T020000
RDATE:20301103T020000
END:STANDARD
BEGIN:DAYLIGHT
TZNAME:CDT
DTSTART:20290311T020000
TZOFFSETFROM:-0600
TZOFFSETTO:-0500
RDATE:20300310T020000
END:DAYLIGHT
END:VTIMEZONE
BEGIN:VEVENT
UID:2eb2a70a-19b3-4046-a3a2-0cd581a9c21b
DTSTAMP:20260424T192205Z
DESCRIPTION:
DTSTART;TZID=America/Chicago:20290510T070000
DTEND;TZID=America/Chicago:20290510T120000
LOCATION:
SUMMARY:Full Service in Operation
END:VEVENT
END:VCALENDAR
