BEGIN:VCALENDAR
VERSION:2.0
PRODID:-//crossroadsatparkplace.org//NONSGML kigkonsult.se iCalcreator 2.30
 .10//
CALSCALE:GREGORIAN
METHOD:PUBLISH
UID:b581cea0-afad-4165-bac1-81fc5e8a3e07
X-WR-CALDESC:
X-WR-RELCALID:a16876ca28fde58d43753dceeadfd998
X-WR-TIMEZONE:America/Chicago
BEGIN:VTIMEZONE
TZID:America/Chicago
BEGIN:STANDARD
TZNAME:CST
DTSTART:20281105T020000
TZOFFSETFROM:-0500
TZOFFSETTO:-0600
RDATE:20291104T020000
RDATE:20301103T020000
END:STANDARD
BEGIN:DAYLIGHT
TZNAME:CDT
DTSTART:20290311T020000
TZOFFSETFROM:-0600
TZOFFSETTO:-0500
RDATE:20300310T020000
END:DAYLIGHT
END:VTIMEZONE
BEGIN:VEVENT
UID:307686ff-ddbf-469c-8368-a95c69dd83b3
DTSTAMP:20260424T192758Z
DESCRIPTION:
DTSTART;TZID=America/Chicago:20290516T100000
DTEND;TZID=America/Chicago:20290516T120000
LOCATION:
SUMMARY:Community Food Fair
END:VEVENT
END:VCALENDAR
