BEGIN:VCALENDAR
VERSION:2.0
PRODID:-//crossroadsatparkplace.org//NONSGML kigkonsult.se iCalcreator 2.30
 .10//
CALSCALE:GREGORIAN
METHOD:PUBLISH
UID:883e447e-901b-4195-8e12-a7ed6e944441
X-WR-CALDESC:
X-WR-RELCALID:5cb0e07d2587a0ae4cac8d5a03c0d6ef
X-WR-TIMEZONE:America/Chicago
BEGIN:VTIMEZONE
TZID:America/Chicago
BEGIN:STANDARD
TZNAME:CST
DTSTART:20281105T020000
TZOFFSETFROM:-0500
TZOFFSETTO:-0600
RDATE:20291104T020000
RDATE:20301103T020000
END:STANDARD
BEGIN:DAYLIGHT
TZNAME:CDT
DTSTART:20290311T020000
TZOFFSETFROM:-0600
TZOFFSETTO:-0500
RDATE:20300310T020000
END:DAYLIGHT
END:VTIMEZONE
BEGIN:VEVENT
UID:8d5fa9c3-7644-42b0-b545-70fedba6528f
DTSTAMP:20260424T193003Z
DESCRIPTION:
DTSTART;TZID=America/Chicago:20290523T100000
DTEND;TZID=America/Chicago:20290523T120000
LOCATION:
SUMMARY:Community Food Fair
END:VEVENT
END:VCALENDAR
