BEGIN:VCALENDAR
VERSION:2.0
PRODID:-//crossroadsatparkplace.org//NONSGML kigkonsult.se iCalcreator 2.30
 .10//
CALSCALE:GREGORIAN
METHOD:PUBLISH
UID:39c80bd4-7216-41dd-ad5d-53b548e633dc
X-WR-CALDESC:
X-WR-RELCALID:d267aa3ac16bc87021dc342a175b0435
X-WR-TIMEZONE:America/Chicago
BEGIN:VTIMEZONE
TZID:America/Chicago
BEGIN:STANDARD
TZNAME:CST
DTSTART:20281105T020000
TZOFFSETFROM:-0500
TZOFFSETTO:-0600
RDATE:20291104T020000
RDATE:20301103T020000
END:STANDARD
BEGIN:DAYLIGHT
TZNAME:CDT
DTSTART:20290311T020000
TZOFFSETFROM:-0600
TZOFFSETTO:-0500
RDATE:20300310T020000
END:DAYLIGHT
END:VTIMEZONE
BEGIN:VEVENT
UID:1ab3e4ce-10ac-46cf-bafb-5d6c7f7f24e2
DTSTAMP:20260424T205254Z
DESCRIPTION:
DTSTART;TZID=America/Chicago:20290613T100000
DTEND;TZID=America/Chicago:20290613T120000
LOCATION:
SUMMARY:Community Food Fair
END:VEVENT
END:VCALENDAR
