BEGIN:VCALENDAR
VERSION:2.0
PRODID:-//crossroadsatparkplace.org//NONSGML kigkonsult.se iCalcreator 2.30
 .10//
CALSCALE:GREGORIAN
METHOD:PUBLISH
UID:0198f8f1-78a2-4032-8bfe-3d2c6d9ad0d2
X-WR-CALDESC:
X-WR-RELCALID:cb626d6c24cfe87272e46217f3609ab3
X-WR-TIMEZONE:America/Chicago
BEGIN:VTIMEZONE
TZID:America/Chicago
BEGIN:STANDARD
TZNAME:CST
DTSTART:20281105T020000
TZOFFSETFROM:-0500
TZOFFSETTO:-0600
RDATE:20291104T020000
RDATE:20301103T020000
END:STANDARD
BEGIN:DAYLIGHT
TZNAME:CDT
DTSTART:20290311T020000
TZOFFSETFROM:-0600
TZOFFSETTO:-0500
RDATE:20300310T020000
END:DAYLIGHT
END:VTIMEZONE
BEGIN:VEVENT
UID:1bf3223c-b23b-45ce-9777-a206d1b42d0d
DTSTAMP:20260424T205049Z
DESCRIPTION:
DTSTART;TZID=America/Chicago:20290620T100000
DTEND;TZID=America/Chicago:20290620T120000
LOCATION:
SUMMARY:Community Food Fair
END:VEVENT
END:VCALENDAR
