BEGIN:VCALENDAR
VERSION:2.0
PRODID:-//crossroadsatparkplace.org//NONSGML kigkonsult.se iCalcreator 2.30
 .10//
CALSCALE:GREGORIAN
METHOD:PUBLISH
UID:e4cfa671-af12-4542-9623-dd19a6c07d8f
X-WR-CALDESC:
X-WR-RELCALID:31c465cff3eaaa68fe20ebf1dfd96577
X-WR-TIMEZONE:America/Chicago
BEGIN:VTIMEZONE
TZID:America/Chicago
BEGIN:STANDARD
TZNAME:CST
DTSTART:20281105T020000
TZOFFSETFROM:-0500
TZOFFSETTO:-0600
RDATE:20291104T020000
RDATE:20301103T020000
END:STANDARD
BEGIN:DAYLIGHT
TZNAME:CDT
DTSTART:20290311T020000
TZOFFSETFROM:-0600
TZOFFSETTO:-0500
RDATE:20300310T020000
END:DAYLIGHT
END:VTIMEZONE
BEGIN:VEVENT
UID:d682a952-ef31-409f-9c11-3ac4a7b1381a
DTSTAMP:20260424T205438Z
DESCRIPTION:
DTSTART;TZID=America/Chicago:20290627T100000
DTEND;TZID=America/Chicago:20290627T120000
LOCATION:
SUMMARY:Community Food Fair
END:VEVENT
END:VCALENDAR
