BEGIN:VCALENDAR
VERSION:2.0
PRODID:-//crossroadsatparkplace.org//NONSGML kigkonsult.se iCalcreator 2.30
 .10//
CALSCALE:GREGORIAN
METHOD:PUBLISH
UID:11db9558-d5fd-42d2-8863-c0d49dda0a26
X-WR-CALDESC:
X-WR-RELCALID:37f36050ec0533616c1c5139e3c4d8fe
X-WR-TIMEZONE:America/Chicago
BEGIN:VTIMEZONE
TZID:America/Chicago
BEGIN:STANDARD
TZNAME:CST
DTSTART:20281105T020000
TZOFFSETFROM:-0500
TZOFFSETTO:-0600
RDATE:20291104T020000
RDATE:20301103T020000
END:STANDARD
BEGIN:DAYLIGHT
TZNAME:CDT
DTSTART:20290311T020000
TZOFFSETFROM:-0600
TZOFFSETTO:-0500
RDATE:20300310T020000
END:DAYLIGHT
END:VTIMEZONE
BEGIN:VEVENT
UID:08c3ec64-b180-488f-8971-224f6bf7b069
DTSTAMP:20260424T221551Z
DESCRIPTION:
DTSTART;TZID=America/Chicago:20290704T100000
DTEND;TZID=America/Chicago:20290704T120000
LOCATION:
SUMMARY:Community Food Fair
END:VEVENT
END:VCALENDAR
