BEGIN:VCALENDAR
VERSION:2.0
PRODID:-//crossroadsatparkplace.org//NONSGML kigkonsult.se iCalcreator 2.30
 .10//
CALSCALE:GREGORIAN
METHOD:PUBLISH
UID:627dc95b-5d68-4e14-9f2a-49bf2e302bed
X-WR-CALDESC:
X-WR-RELCALID:d1cbf165715d525f5ed42e7e51d747bb
X-WR-TIMEZONE:America/Chicago
BEGIN:VTIMEZONE
TZID:America/Chicago
BEGIN:STANDARD
TZNAME:CST
DTSTART:20281105T020000
TZOFFSETFROM:-0500
TZOFFSETTO:-0600
RDATE:20291104T020000
RDATE:20301103T020000
END:STANDARD
BEGIN:DAYLIGHT
TZNAME:CDT
DTSTART:20290311T020000
TZOFFSETFROM:-0600
TZOFFSETTO:-0500
RDATE:20300310T020000
END:DAYLIGHT
END:VTIMEZONE
BEGIN:VEVENT
UID:9e0149fd-be10-4f1f-a697-cafa1b6104e1
DTSTAMP:20260424T221050Z
DESCRIPTION:
DTSTART;TZID=America/Chicago:20290711T100000
DTEND;TZID=America/Chicago:20290711T120000
LOCATION:
SUMMARY:Community Food Fair
END:VEVENT
END:VCALENDAR
