BEGIN:VCALENDAR
VERSION:2.0
PRODID:-//crossroadsatparkplace.org//NONSGML kigkonsult.se iCalcreator 2.30
 .10//
CALSCALE:GREGORIAN
METHOD:PUBLISH
UID:939bb152-37cb-499e-b766-498f3957181c
X-WR-CALDESC:
X-WR-RELCALID:87bf2166fa3cc715c3c464c6114d5cd2
X-WR-TIMEZONE:America/Chicago
BEGIN:VTIMEZONE
TZID:America/Chicago
BEGIN:STANDARD
TZNAME:CST
DTSTART:20281105T020000
TZOFFSETFROM:-0500
TZOFFSETTO:-0600
RDATE:20291104T020000
RDATE:20301103T020000
END:STANDARD
BEGIN:DAYLIGHT
TZNAME:CDT
DTSTART:20290311T020000
TZOFFSETFROM:-0600
TZOFFSETTO:-0500
RDATE:20300310T020000
END:DAYLIGHT
END:VTIMEZONE
BEGIN:VEVENT
UID:b46425d3-a7bd-4e21-8e0f-10b4e44203d7
DTSTAMP:20260424T220807Z
DESCRIPTION:
DTSTART;TZID=America/Chicago:20290718T100000
DTEND;TZID=America/Chicago:20290718T120000
LOCATION:
SUMMARY:Community Food Fair
END:VEVENT
END:VCALENDAR
