BEGIN:VCALENDAR
VERSION:2.0
PRODID:-//crossroadsatparkplace.org//NONSGML kigkonsult.se iCalcreator 2.30
 .10//
CALSCALE:GREGORIAN
METHOD:PUBLISH
UID:56229fd9-432d-4439-b00a-ea71438f3f06
X-WR-CALDESC:
X-WR-RELCALID:ed1066c97ea4b58e93cf61c57bed07b4
X-WR-TIMEZONE:America/Chicago
BEGIN:VTIMEZONE
TZID:America/Chicago
BEGIN:STANDARD
TZNAME:CST
DTSTART:20281105T020000
TZOFFSETFROM:-0500
TZOFFSETTO:-0600
RDATE:20291104T020000
RDATE:20301103T020000
END:STANDARD
BEGIN:DAYLIGHT
TZNAME:CDT
DTSTART:20290311T020000
TZOFFSETFROM:-0600
TZOFFSETTO:-0500
RDATE:20300310T020000
END:DAYLIGHT
END:VTIMEZONE
BEGIN:VEVENT
UID:5a01725f-daac-4ce8-9028-961d8a9816af
DTSTAMP:20260424T234158Z
DESCRIPTION:
DTSTART;TZID=America/Chicago:20290801T100000
DTEND;TZID=America/Chicago:20290801T120000
LOCATION:
SUMMARY:Community Food Fair
END:VEVENT
END:VCALENDAR
