BEGIN:VCALENDAR
VERSION:2.0
PRODID:-//crossroadsatparkplace.org//NONSGML kigkonsult.se iCalcreator 2.30
 .10//
CALSCALE:GREGORIAN
METHOD:PUBLISH
UID:d0ce8aa0-7b7f-4e0a-8b7e-37d034defb20
X-WR-CALDESC:
X-WR-RELCALID:39941712a6a20a3e5fa762335d924267
X-WR-TIMEZONE:America/Chicago
BEGIN:VTIMEZONE
TZID:America/Chicago
BEGIN:STANDARD
TZNAME:CST
DTSTART:20281105T020000
TZOFFSETFROM:-0500
TZOFFSETTO:-0600
RDATE:20291104T020000
RDATE:20301103T020000
END:STANDARD
BEGIN:DAYLIGHT
TZNAME:CDT
DTSTART:20290311T020000
TZOFFSETFROM:-0600
TZOFFSETTO:-0500
RDATE:20300310T020000
END:DAYLIGHT
END:VTIMEZONE
BEGIN:VEVENT
UID:ba9ef159-ed96-446b-b2ed-63fc251c51f3
DTSTAMP:20260424T233131Z
DESCRIPTION:
DTSTART;TZID=America/Chicago:20290815T100000
DTEND;TZID=America/Chicago:20290815T120000
LOCATION:
SUMMARY:Community Food Fair
END:VEVENT
END:VCALENDAR
