BEGIN:VCALENDAR
VERSION:2.0
PRODID:-//crossroadsatparkplace.org//NONSGML kigkonsult.se iCalcreator 2.30
 .10//
CALSCALE:GREGORIAN
METHOD:PUBLISH
UID:62de6a2a-d0ed-4e16-a2ff-58278f0750b2
X-WR-CALDESC:
X-WR-RELCALID:5837f6d9831104b734add0faae59bc49
X-WR-TIMEZONE:America/Chicago
BEGIN:VTIMEZONE
TZID:America/Chicago
BEGIN:STANDARD
TZNAME:CST
DTSTART:20281105T020000
TZOFFSETFROM:-0500
TZOFFSETTO:-0600
RDATE:20291104T020000
RDATE:20301103T020000
END:STANDARD
BEGIN:DAYLIGHT
TZNAME:CDT
DTSTART:20290311T020000
TZOFFSETFROM:-0600
TZOFFSETTO:-0500
RDATE:20300310T020000
END:DAYLIGHT
END:VTIMEZONE
BEGIN:VEVENT
UID:2e774729-e338-43f5-a683-ab160db18d09
DTSTAMP:20260424T234115Z
DESCRIPTION:
DTSTART;TZID=America/Chicago:20290822T100000
DTEND;TZID=America/Chicago:20290822T120000
LOCATION:
SUMMARY:Community Food Fair
END:VEVENT
END:VCALENDAR
