BEGIN:VCALENDAR
VERSION:2.0
PRODID:-//crossroadsatparkplace.org//NONSGML kigkonsult.se iCalcreator 2.30
 .10//
CALSCALE:GREGORIAN
METHOD:PUBLISH
UID:a4bd85fc-f869-41d6-9c04-43c6d6c9c4b3
X-WR-CALDESC:
X-WR-RELCALID:412dfcd21622a5950934523ac1ea82e8
X-WR-TIMEZONE:America/Chicago
BEGIN:VTIMEZONE
TZID:America/Chicago
BEGIN:STANDARD
TZNAME:CST
DTSTART:20281105T020000
TZOFFSETFROM:-0500
TZOFFSETTO:-0600
RDATE:20291104T020000
RDATE:20301103T020000
END:STANDARD
BEGIN:DAYLIGHT
TZNAME:CDT
DTSTART:20290311T020000
TZOFFSETFROM:-0600
TZOFFSETTO:-0500
RDATE:20300310T020000
END:DAYLIGHT
END:VTIMEZONE
BEGIN:VEVENT
UID:36c00782-2ea0-4c72-b979-7e4aad988682
DTSTAMP:20260424T234022Z
DESCRIPTION:
DTSTART;TZID=America/Chicago:20290829T100000
DTEND;TZID=America/Chicago:20290829T120000
LOCATION:
SUMMARY:Community Food Fair
END:VEVENT
END:VCALENDAR
