BEGIN:VCALENDAR
VERSION:2.0
PRODID:-//crossroadsatparkplace.org//NONSGML kigkonsult.se iCalcreator 2.30
 .10//
CALSCALE:GREGORIAN
METHOD:PUBLISH
UID:793733c3-fd25-4449-909e-c926c854e92b
X-WR-CALDESC:
X-WR-RELCALID:d881e3f94eaebd6c3fa85de4e9b4175d
X-WR-TIMEZONE:America/Chicago
BEGIN:VTIMEZONE
TZID:America/Chicago
BEGIN:STANDARD
TZNAME:CST
DTSTART:20281105T020000
TZOFFSETFROM:-0500
TZOFFSETTO:-0600
RDATE:20291104T020000
RDATE:20301103T020000
END:STANDARD
BEGIN:DAYLIGHT
TZNAME:CDT
DTSTART:20290311T020000
TZOFFSETFROM:-0600
TZOFFSETTO:-0500
RDATE:20300310T020000
END:DAYLIGHT
END:VTIMEZONE
BEGIN:VEVENT
UID:4419a020-50a6-4dba-a29b-c68dab841516
DTSTAMP:20260425T010502Z
DESCRIPTION:
DTSTART;TZID=America/Chicago:20290905T100000
DTEND;TZID=America/Chicago:20290905T120000
LOCATION:
SUMMARY:Community Food Fair
END:VEVENT
END:VCALENDAR
