BEGIN:VCALENDAR
VERSION:2.0
PRODID:-//crossroadsatparkplace.org//NONSGML kigkonsult.se iCalcreator 2.30
 .10//
CALSCALE:GREGORIAN
METHOD:PUBLISH
UID:8b709c5c-cc3b-4dca-80b0-b22eb14a771b
X-WR-CALDESC:
X-WR-RELCALID:f980c630f96a471ffd623456a4fce35a
X-WR-TIMEZONE:America/Chicago
BEGIN:VTIMEZONE
TZID:America/Chicago
BEGIN:STANDARD
TZNAME:CST
DTSTART:20281105T020000
TZOFFSETFROM:-0500
TZOFFSETTO:-0600
RDATE:20291104T020000
RDATE:20301103T020000
END:STANDARD
BEGIN:DAYLIGHT
TZNAME:CDT
DTSTART:20290311T020000
TZOFFSETFROM:-0600
TZOFFSETTO:-0500
RDATE:20300310T020000
RDATE:20310309T020000
END:DAYLIGHT
END:VTIMEZONE
BEGIN:VEVENT
UID:9f46e1b5-2d68-449d-8d97-4e2e834731b7
DTSTAMP:20260425T010511Z
DESCRIPTION:
DTSTART;TZID=America/Chicago:20290912T100000
DTEND;TZID=America/Chicago:20290912T120000
LOCATION:
SUMMARY:Community Food Fair
END:VEVENT
END:VCALENDAR
