BEGIN:VCALENDAR
VERSION:2.0
PRODID:-//crossroadsatparkplace.org//NONSGML kigkonsult.se iCalcreator 2.30
 .10//
CALSCALE:GREGORIAN
METHOD:PUBLISH
UID:2389b22a-a243-4632-b9e3-f37ef51dafcf
X-WR-CALDESC:
X-WR-RELCALID:bd082684f64dab25665ac260df934084
X-WR-TIMEZONE:America/Chicago
BEGIN:VTIMEZONE
TZID:America/Chicago
BEGIN:STANDARD
TZNAME:CST
DTSTART:20281105T020000
TZOFFSETFROM:-0500
TZOFFSETTO:-0600
RDATE:20291104T020000
RDATE:20301103T020000
END:STANDARD
BEGIN:DAYLIGHT
TZNAME:CDT
DTSTART:20290311T020000
TZOFFSETFROM:-0600
TZOFFSETTO:-0500
RDATE:20300310T020000
RDATE:20310309T020000
END:DAYLIGHT
END:VTIMEZONE
BEGIN:VEVENT
UID:a886d81d-f4c4-41a1-8ff3-e6085bd6a95f
DTSTAMP:20260425T010537Z
DESCRIPTION:
DTSTART;TZID=America/Chicago:20290919T100000
DTEND;TZID=America/Chicago:20290919T120000
LOCATION:
SUMMARY:Community Food Fair
END:VEVENT
END:VCALENDAR
