BEGIN:VCALENDAR
VERSION:2.0
PRODID:-//crossroadsatparkplace.org//NONSGML kigkonsult.se iCalcreator 2.30
 .10//
CALSCALE:GREGORIAN
METHOD:PUBLISH
UID:c844d86c-ce78-4ed3-bf6f-52b2da73ac0f
X-WR-CALDESC:
X-WR-RELCALID:bf7c5b98640d9bcdc4150edf19353f9b
X-WR-TIMEZONE:America/Chicago
BEGIN:VTIMEZONE
TZID:America/Chicago
BEGIN:STANDARD
TZNAME:CST
DTSTART:20281105T020000
TZOFFSETFROM:-0500
TZOFFSETTO:-0600
RDATE:20291104T020000
RDATE:20301103T020000
END:STANDARD
BEGIN:DAYLIGHT
TZNAME:CDT
DTSTART:20290311T020000
TZOFFSETFROM:-0600
TZOFFSETTO:-0500
RDATE:20300310T020000
RDATE:20310309T020000
END:DAYLIGHT
END:VTIMEZONE
BEGIN:VEVENT
UID:b97ac54c-ad2d-4f97-b6c0-d496b541dc69
DTSTAMP:20260425T021931Z
DESCRIPTION:
DTSTART;TZID=America/Chicago:20291017T100000
DTEND;TZID=America/Chicago:20291017T120000
LOCATION:
SUMMARY:Community Food Fair
END:VEVENT
END:VCALENDAR
